BEGIN:VCALENDAR
VERSION:2.0
PRODID:-//Glazbena škola Požega - ECPv6.15.12.1//NONSGML v1.0//EN
CALSCALE:GREGORIAN
METHOD:PUBLISH
X-ORIGINAL-URL:https://glazbena-skola-pozega.hr
X-WR-CALDESC:Događaji za Glazbena škola Požega
REFRESH-INTERVAL;VALUE=DURATION:PT1H
X-Robots-Tag:noindex
X-PUBLISHED-TTL:PT1H
BEGIN:VTIMEZONE
TZID:Europe/Zagreb
BEGIN:DAYLIGHT
TZOFFSETFROM:+0100
TZOFFSETTO:+0200
TZNAME:CEST
DTSTART:20230326T010000
END:DAYLIGHT
BEGIN:STANDARD
TZOFFSETFROM:+0200
TZOFFSETTO:+0100
TZNAME:CET
DTSTART:20231029T010000
END:STANDARD
BEGIN:DAYLIGHT
TZOFFSETFROM:+0100
TZOFFSETTO:+0200
TZNAME:CEST
DTSTART:20240331T010000
END:DAYLIGHT
BEGIN:STANDARD
TZOFFSETFROM:+0200
TZOFFSETTO:+0100
TZNAME:CET
DTSTART:20241027T010000
END:STANDARD
BEGIN:DAYLIGHT
TZOFFSETFROM:+0100
TZOFFSETTO:+0200
TZNAME:CEST
DTSTART:20250330T010000
END:DAYLIGHT
BEGIN:STANDARD
TZOFFSETFROM:+0200
TZOFFSETTO:+0100
TZNAME:CET
DTSTART:20251026T010000
END:STANDARD
END:VTIMEZONE
BEGIN:VEVENT
DTSTART;TZID=Europe/Zagreb:20241208T180000
DTEND;TZID=Europe/Zagreb:20241208T193000
DTSTAMP:20260420T115836
CREATED:20241121T121017Z
LAST-MODIFIED:20241121T121017Z
UID:44192-1733680800-1733686200@glazbena-skola-pozega.hr
SUMMARY:Koncert na Adventu
DESCRIPTION:Pozivamo Vas na Koncert na Adventu koji će se održati 8. prosinca 2024. godine na prostoru iza Gradske kuće s početkom u 18:00 sati. \nOčekujemo Vas!
URL:https://glazbena-skola-pozega.hr/event/koncert-na-adventu/
LOCATION:Prostor iza Gradske kuće\, Trg Svetog Trojstva 1\, Požega
CATEGORIES:Učenici škole
ATTACH;FMTTYPE=image/png:https://glazbena-skola-pozega.hr/wp-content/uploads/2024/11/batch_Koncert-na-adventu2.png
ORGANIZER;CN="Glazbena %C5%A1kola Po%C5%BEega":MAILTO:tajnistvo@glazbena-skola-pozega.hr
END:VEVENT
END:VCALENDAR