BEGIN:VCALENDAR
VERSION:2.0
PRODID:-//Glazbena škola Požega - ECPv6.15.12.1//NONSGML v1.0//EN
CALSCALE:GREGORIAN
METHOD:PUBLISH
X-ORIGINAL-URL:https://glazbena-skola-pozega.hr
X-WR-CALDESC:Događaji za Glazbena škola Požega
REFRESH-INTERVAL;VALUE=DURATION:PT1H
X-Robots-Tag:noindex
X-PUBLISHED-TTL:PT1H
BEGIN:VTIMEZONE
TZID:Europe/Zagreb
BEGIN:DAYLIGHT
TZOFFSETFROM:+0100
TZOFFSETTO:+0200
TZNAME:CEST
DTSTART:20210328T010000
END:DAYLIGHT
BEGIN:STANDARD
TZOFFSETFROM:+0200
TZOFFSETTO:+0100
TZNAME:CET
DTSTART:20211031T010000
END:STANDARD
BEGIN:DAYLIGHT
TZOFFSETFROM:+0100
TZOFFSETTO:+0200
TZNAME:CEST
DTSTART:20220327T010000
END:DAYLIGHT
BEGIN:STANDARD
TZOFFSETFROM:+0200
TZOFFSETTO:+0100
TZNAME:CET
DTSTART:20221030T010000
END:STANDARD
BEGIN:DAYLIGHT
TZOFFSETFROM:+0100
TZOFFSETTO:+0200
TZNAME:CEST
DTSTART:20230326T010000
END:DAYLIGHT
BEGIN:STANDARD
TZOFFSETFROM:+0200
TZOFFSETTO:+0100
TZNAME:CET
DTSTART:20231029T010000
END:STANDARD
BEGIN:DAYLIGHT
TZOFFSETFROM:+0100
TZOFFSETTO:+0200
TZNAME:CEST
DTSTART:20240331T010000
END:DAYLIGHT
BEGIN:STANDARD
TZOFFSETFROM:+0200
TZOFFSETTO:+0100
TZNAME:CET
DTSTART:20241027T010000
END:STANDARD
BEGIN:DAYLIGHT
TZOFFSETFROM:+0100
TZOFFSETTO:+0200
TZNAME:CEST
DTSTART:20250330T010000
END:DAYLIGHT
BEGIN:STANDARD
TZOFFSETFROM:+0200
TZOFFSETTO:+0100
TZNAME:CET
DTSTART:20251026T010000
END:STANDARD
BEGIN:DAYLIGHT
TZOFFSETFROM:+0100
TZOFFSETTO:+0200
TZNAME:CEST
DTSTART:20260329T010000
END:DAYLIGHT
BEGIN:STANDARD
TZOFFSETFROM:+0200
TZOFFSETTO:+0100
TZNAME:CET
DTSTART:20261025T010000
END:STANDARD
BEGIN:DAYLIGHT
TZOFFSETFROM:+0100
TZOFFSETTO:+0200
TZNAME:CEST
DTSTART:20270328T010000
END:DAYLIGHT
BEGIN:STANDARD
TZOFFSETFROM:+0200
TZOFFSETTO:+0100
TZNAME:CET
DTSTART:20271031T010000
END:STANDARD
END:VTIMEZONE
BEGIN:VEVENT
DTSTART;TZID=Europe/Zagreb:20260409T193000
DTEND;TZID=Europe/Zagreb:20260409T210000
DTSTAMP:20260420T043128
CREATED:20260327T120820Z
LAST-MODIFIED:20260327T121735Z
UID:52663-1775763000-1775768400@glazbena-skola-pozega.hr
SUMMARY:Proljetni koncert klasične harmonike
DESCRIPTION:Pozivamo Vas na Proljetni koncert klasične harmonike koji će se održati 9. travnja 2026. godine u Gradskoj knjižnici Požega s početkom u 19:30 sati. Ulaz je besplatan. \nOčekujemo Vas!
URL:https://glazbena-skola-pozega.hr/event/proljetni-koncert-klasicne-harmonike-5/
LOCATION:Gradska knjižnica Požega\, Antuna Kanižlića 1\,\, Požega\, Croatia (Local Name: Hrvatska)
ATTACH;FMTTYPE=image/png:https://glazbena-skola-pozega.hr/wp-content/uploads/2022/04/proljetni12.png
ORGANIZER;CN="Glazbena %C5%A1kola Po%C5%BEega":MAILTO:tajnistvo@glazbena-skola-pozega.hr
END:VEVENT
BEGIN:VEVENT
DTSTART;TZID=Europe/Zagreb:20250513T193000
DTEND;TZID=Europe/Zagreb:20250513T210000
DTSTAMP:20260420T043128
CREATED:20250506T104036Z
LAST-MODIFIED:20250506T104132Z
UID:46641-1747164600-1747170000@glazbena-skola-pozega.hr
SUMMARY:Humanitarni koncert za djecu Marijinih obroka
DESCRIPTION:Pozivamo Vas na Humanitarni koncert za djecu Marijinih obroka koji će se održati 13. svibnja 2025. godine u Gradskoj knjižnici Požega s početkom u 19:30 sati. \nPri ulasku na koncert svi posjetitelji moći će dati dobrovoljni prilog. \nOčekujemo Vas!
URL:https://glazbena-skola-pozega.hr/event/humanitarni-koncert-za-djecu-marijinih-obroka/
LOCATION:Gradska knjižnica Požega\, Antuna Kanižlića 1\,\, Požega\, Croatia (Local Name: Hrvatska)
CATEGORIES:Učenici škole
ATTACH;FMTTYPE=image/png:https://glazbena-skola-pozega.hr/wp-content/uploads/2025/05/smanjenoK.-marijanski-obroci-4.png
ORGANIZER;CN="Glazbena %C5%A1kola Po%C5%BEega":MAILTO:tajnistvo@glazbena-skola-pozega.hr
END:VEVENT
BEGIN:VEVENT
DTSTART;TZID=Europe/Zagreb:20250425T193000
DTEND;TZID=Europe/Zagreb:20250425T210000
DTSTAMP:20260420T043128
CREATED:20250408T130122Z
LAST-MODIFIED:20250408T130122Z
UID:46256-1745609400-1745614800@glazbena-skola-pozega.hr
SUMMARY:Proljetni koncert klasične harmonike
DESCRIPTION:Pozivamo Vas na Proljetni koncert klasične harmonike koji će se održati 25. travnja. 2025. godine u Gradskoj knjižnici Požega s početkom u 19:30 sati. Ulaz je besplatan. \nOčekujemo Vas!
URL:https://glazbena-skola-pozega.hr/event/proljetni-koncert-klasicne-harmonike-4/
LOCATION:Gradska knjižnica Požega\, Antuna Kanižlića 1\,\, Požega\, Croatia (Local Name: Hrvatska)
CATEGORIES:Profesori,Učenici škole
ATTACH;FMTTYPE=image/png:https://glazbena-skola-pozega.hr/wp-content/uploads/2024/03/batch_Proljetni-koncert-klasicne-harmonike5--e1710158519817.png
ORGANIZER;CN="Glazbena %C5%A1kola Po%C5%BEega":MAILTO:tajnistvo@glazbena-skola-pozega.hr
END:VEVENT
BEGIN:VEVENT
DTSTART;TZID=Europe/Zagreb:20240327T193000
DTEND;TZID=Europe/Zagreb:20240327T210000
DTSTAMP:20260420T043128
CREATED:20240311T120301Z
LAST-MODIFIED:20240311T120301Z
UID:41239-1711567800-1711573200@glazbena-skola-pozega.hr
SUMMARY:Proljetni koncert klasične harmonike
DESCRIPTION:Pozivamo Vas na Proljetni koncert klasične harmonike koji će se održati 27. ožujka 2024. godine u Gradskoj knjižnici Požega s početkom u 19:30 sati. Ulaz je besplatan. \nOčekujemo Vas!
URL:https://glazbena-skola-pozega.hr/event/proljetni-koncert-klasicne-harmonike-3/
LOCATION:Gradska knjižnica Požega\, Antuna Kanižlića 1\,\, Požega\, Croatia (Local Name: Hrvatska)
CATEGORIES:Profesori,Učenici škole
ATTACH;FMTTYPE=image/png:https://glazbena-skola-pozega.hr/wp-content/uploads/2024/03/batch_Proljetni-koncert-klasicne-harmonike5--e1710158519817.png
ORGANIZER;CN="Glazbena %C5%A1kola Po%C5%BEega":MAILTO:tajnistvo@glazbena-skola-pozega.hr
END:VEVENT
BEGIN:VEVENT
DTSTART;TZID=Europe/Zagreb:20230405T190000
DTEND;TZID=Europe/Zagreb:20230405T203000
DTSTAMP:20260420T043128
CREATED:20230327T080440Z
LAST-MODIFIED:20230327T080440Z
UID:36995-1680721200-1680726600@glazbena-skola-pozega.hr
SUMMARY:Proljetni koncert klasične harmonike
DESCRIPTION:Pozivamo Vas na Proljetni koncert klasične harmonike koji će se održati 5. travnja 2023. godine u Gradskoj knjižnici Požega s početkom u 19:00 sati. Ulaznice su besplatne. \nOčekujemo Vas! \n \n  \n 
URL:https://glazbena-skola-pozega.hr/event/proljetni-koncert-klasicne-harmonike-2/
LOCATION:Gradska knjižnica Požega\, Antuna Kanižlića 1\,\, Požega\, Croatia (Local Name: Hrvatska)
CATEGORIES:Profesori,Učenici škole
ATTACH;FMTTYPE=image/png:https://glazbena-skola-pozega.hr/wp-content/uploads/2022/04/proljetni12.png
ORGANIZER;CN="Glazbena %C5%A1kola Po%C5%BEega":MAILTO:tajnistvo@glazbena-skola-pozega.hr
END:VEVENT
BEGIN:VEVENT
DTSTART;TZID=Europe/Zagreb:20221229T200000
DTEND;TZID=Europe/Zagreb:20221229T213000
DTSTAMP:20260420T043128
CREATED:20221216T073854Z
LAST-MODIFIED:20221216T073854Z
UID:35222-1672344000-1672349400@glazbena-skola-pozega.hr
SUMMARY:Matija Dedić trio - koncert povodom inauguracije klavira
DESCRIPTION:Pozivamo Vas na Matija Dedić trio – koncert povodom inauguracije klavira koji će se održati 29. prosinca 2022. godine u Gradskoj knjižnici Požega (Galerija svjetlosti) s početkom u 20:00 sati. \nOčekujemo Vas!
URL:https://glazbena-skola-pozega.hr/event/matija-dedic-trio-koncert-povodom-inauguracije-klavira/
LOCATION:Gradska knjižnica Požega\, Antuna Kanižlića 1\,\, Požega\, Croatia (Local Name: Hrvatska)
CATEGORIES:Gostujući umjetnici
ATTACH;FMTTYPE=image/png:https://glazbena-skola-pozega.hr/wp-content/uploads/2022/12/Matija-Dedic-trio123.png
ORGANIZER;CN="Glazbena %C5%A1kola Po%C5%BEega":MAILTO:tajnistvo@glazbena-skola-pozega.hr
END:VEVENT
BEGIN:VEVENT
DTSTART;TZID=Europe/Zagreb:20220421T193000
DTEND;TZID=Europe/Zagreb:20220421T210000
DTSTAMP:20260420T043128
CREATED:20220411T081032Z
LAST-MODIFIED:20220411T081836Z
UID:32573-1650569400-1650574800@glazbena-skola-pozega.hr
SUMMARY:Proljetni koncert klasične harmonike
DESCRIPTION:Pozivamo Vas na Proljetni koncert klasične harmonike koji će se održati 21. travnja 2022. godine u Gradskoj knjižnici Požega s početkom u 19:30 sati. Ulaznice su besplatne. \nOčekujemo Vas!
URL:https://glazbena-skola-pozega.hr/event/proljetni-koncert-klasicne-harmonike/
LOCATION:Gradska knjižnica Požega\, Antuna Kanižlića 1\,\, Požega\, Croatia (Local Name: Hrvatska)
CATEGORIES:Profesori,Učenici škole
ATTACH;FMTTYPE=image/png:https://glazbena-skola-pozega.hr/wp-content/uploads/2022/04/proljetni12.png
ORGANIZER;CN="Glazbena %C5%A1kola Po%C5%BEega":MAILTO:tajnistvo@glazbena-skola-pozega.hr
END:VEVENT
END:VCALENDAR