BEGIN:VCALENDAR
VERSION:2.0
PRODID:-//Glazbena škola Požega - ECPv6.15.12.1//NONSGML v1.0//EN
CALSCALE:GREGORIAN
METHOD:PUBLISH
X-ORIGINAL-URL:https://glazbena-skola-pozega.hr
X-WR-CALDESC:Događaji za Glazbena škola Požega
REFRESH-INTERVAL;VALUE=DURATION:PT1H
X-Robots-Tag:noindex
X-PUBLISHED-TTL:PT1H
BEGIN:VTIMEZONE
TZID:Europe/Zagreb
BEGIN:DAYLIGHT
TZOFFSETFROM:+0100
TZOFFSETTO:+0200
TZNAME:CEST
DTSTART:20170326T010000
END:DAYLIGHT
BEGIN:STANDARD
TZOFFSETFROM:+0200
TZOFFSETTO:+0100
TZNAME:CET
DTSTART:20171029T010000
END:STANDARD
BEGIN:DAYLIGHT
TZOFFSETFROM:+0100
TZOFFSETTO:+0200
TZNAME:CEST
DTSTART:20180325T010000
END:DAYLIGHT
BEGIN:STANDARD
TZOFFSETFROM:+0200
TZOFFSETTO:+0100
TZNAME:CET
DTSTART:20181028T010000
END:STANDARD
BEGIN:DAYLIGHT
TZOFFSETFROM:+0100
TZOFFSETTO:+0200
TZNAME:CEST
DTSTART:20190331T010000
END:DAYLIGHT
BEGIN:STANDARD
TZOFFSETFROM:+0200
TZOFFSETTO:+0100
TZNAME:CET
DTSTART:20191027T010000
END:STANDARD
BEGIN:DAYLIGHT
TZOFFSETFROM:+0100
TZOFFSETTO:+0200
TZNAME:CEST
DTSTART:20200329T010000
END:DAYLIGHT
BEGIN:STANDARD
TZOFFSETFROM:+0200
TZOFFSETTO:+0100
TZNAME:CET
DTSTART:20201025T010000
END:STANDARD
END:VTIMEZONE
BEGIN:VEVENT
DTSTART;TZID=Europe/Zagreb:20190610T193000
DTEND;TZID=Europe/Zagreb:20190610T210000
DTSTAMP:20260419T232303
CREATED:20190531T115017Z
LAST-MODIFIED:20190531T115017Z
UID:20977-1560195000-1560200400@glazbena-skola-pozega.hr
SUMMARY:Večer udaraljkaša
DESCRIPTION:U ponedjeljak\, 10. lipnja 2019. godine\, u Koncertnoj dvorani Glazbene škole Požega\, s početkom u 19:30 sati održat će se Večer udaraljkaša. \nNastupit će: Juraj Gaši\, učenik 3. razreda srednje glazbene škole i Teo Knapić\, učenik 1. razreda srednje glazbene škole\, a kao gost večeri nastupit će Petar Pranjić\, apsolvent Muzičke akademije u Zagrebu. \n  \nPetar Pranjić\nRođen je 1994.godine u Požegi gdje stječe svoje osnovnoškolsko i srednjoškolsko obrazovanje u klasama prof. Elvire Happ\, prof. Maje Ileković\, te prof. Predraga Kresojevića kod kojeg i završava srednjoškolsko obrazovanje. U rujnu 2013. upisuje studij udaraljki na Muzičkoj akademiji u Zagrebu u klasi prof. Ivane Bilić. Trenutno je student apsolvent\, smjer udaraljke\, u klasi prof. Igora Lešnika. Kao solist višestruko je nagrađivan na natjecanjima Hrvatskog društva glazbenih i plesnih pedagoga: treća nagrada na državom natjecanju 2008.godine\, te prve nagrade na državnim natjecanjima 2010. i 2012. godine\, za koje mu je dodijeljeno priznanje „Oskar znanja“. Godine 2015. dobitnik je prve nagrade na mješovitom međunarodnom natjecanju Bistrički zvukolik. Tijekom školovanja redovito nastupa i gostuje u raznim orkestrima od kojih izdvaja Euphony orkestar\, Sveučilišni harmonikaški orkestar iz Pule\, te orkestar gradske glazbe Trenkovi panduri Požega s kojima ostvaruje brojna gostovanja i osvaja nagrade na natjecanjima. Pohađa brojne seminare priznatih hrvatskih i svjetskih pedagoga: John Back\, Igor Lešnik\, Svet Stoyanov\, Ivana Bilić\, Ney Rosauro\, Pius Cheunga\, Dane M. Richeson\, Ludwig Albert\, Paolo Cimmino i drugi\, te međunarodno poznate festivale udaraljkaške glazbe u Hrvatskoj i svijetu: IPEW u Bjelovaru (International Percussion Ensemble Week)\, IBMW u Samoboru (Ivana Bilić Marimba Week). \nNajznačaniji utisak na Petrov glazbeni razvoj imao je nastup u njujorškoj dvorani Carnegie Hall u prosincu 2011. godine\, gdje je nastupio sa dvije sestre na poziv međunarodne organizacije The Ollendorff Center For Human & Religious Understanding\, kao dio projekta American-Croatian Christmas. Član je međunarodno priznatog udaraljkaškog ansambla biNg baNg Muzičke akademije u Zagrebu\, s kojim ostvaruje nastup na Biennale Music Festivalu. Od\nznačajnih nastupa izdvaja također nastupe u sklopu koncertnog ciklusa Virtuoso\, te nastup povodom otvaranja Muzičke akademije. \nUlaz je slobodan. Očekujemo Vas! \n \n 
URL:https://glazbena-skola-pozega.hr/event/vecer-udaraljkasa/
LOCATION:Koncertna dvorana Glazbene škole Požega\, Vjekoslava Babukića 27\,\, Požega\, Croatia (Local Name: Hrvatska)
CATEGORIES:Gostujući umjetnici,Učenici škole
ATTACH;FMTTYPE=image/png:https://glazbena-skola-pozega.hr/wp-content/uploads/2019/05/Marimba-1024x576-1.png
ORGANIZER;CN="Glazbena %C5%A1kola Po%C5%BEega":MAILTO:tajnistvo@glazbena-skola-pozega.hr
GEO:45.334673;17.677169
X-APPLE-STRUCTURED-LOCATION;VALUE=URI;X-ADDRESS=Koncertna dvorana Glazbene škole Požega Vjekoslava Babukića 27 Požega Croatia (Local Name: Hrvatska);X-APPLE-RADIUS=500;X-TITLE=Vjekoslava Babukića 27\,:geo:17.677169,45.334673
END:VEVENT
BEGIN:VEVENT
DTSTART;TZID=Europe/Zagreb:20190514T193000
DTEND;TZID=Europe/Zagreb:20190514T210000
DTSTAMP:20260419T232303
CREATED:20190503T074344Z
LAST-MODIFIED:20190503T074447Z
UID:20488-1557862200-1557867600@glazbena-skola-pozega.hr
SUMMARY:Koncert - Ivan Batoš\, klavir
DESCRIPTION:Pozivamo Vas u utorak\, 14. svibnja 2019. godine\, na koncert pijanista Ivana Batoša\, koji se održava pod pokroviteljstvom Ministarstva kulture. \nKoncert će se održati u Koncertnoj dvorani Glazbene škole Požega\, s početkom u 19:30 sati. Na programu su djela Davida Langa\, Leoša Janáčeka\, Petra Bergama i Ludwiga van Beethovena. \nU sklopu programa moći ćete vidjeti i videoprojekcije za koje su zaslužni Domagoj Zovak (autor videoprojekcija) te Jan Štih (suradnik u izradi projekcija). \nUlaz je besplatan! \nIvan Batoš rođen je u Splitu 1979.\, iste godine kad je sagrađen poljudski stadion i kad je Milan Kundera objavio Knjigu smijeha i zaborava. Klavir je počeo svirati kod časne sestre Pavle Negovec pri dominikanskom samostanu u Splitu koja ga je usmjerila prema višegodišnjem institucionalnom obrazovanju u klasama profesora Ivane Oreb\, Đure Tikvice i Lovre Pogorelića kod kojeg je stekao titulu magistra umjetnosti 2009. godine. Još od studijskih dana rado je dijelio koncertni podij s kolegama u različitim komornim sastavima. Jednako kao i svojim profesorima\, osobito je zahvalan flautistici Lidiji Ljubičić\, saksofonistima Gordanu Tudoru i Goranu Jurkoviću (s kojima nastupa i u Triju GIG)\, te pijanistu Danijelu Detoniju koji su mu pomogli u oblikovanju umjetničke osobnosti. Fascinacija komornom glazbom odredila mu je i životni poziv umjetničkog suradnika na Muzičkoj akademiji u Zagrebu\, te vanjskog suradnika akademija u Sarajevu i Splitu gdje od 2003. godine i dalje uči i radi na sebi prenoseći energiju studentima s kojima svakodnevno nastupa. 2015. godine izabran je u zvanje višeg umjetničkog suradnika\, a u svibnju 2017. g. bio je gost predavač u klasi Arna Bornkampa na Konzervatoriju u Amsterdamu\, Nizozemska kao stipendist programa ERASMUS+. \nForma varijacije je forma u kojoj je koncentracija dovedena do maksimuma\, ona omogućuje skladatelju da govori o bitnom\, da ide ravno u srž. Predmet varijacija je tema\, koja često nema više od šesnaest taktova. Beethoven ide unutar tih šesnaest taktova\, kao da se kroz bunar spušta u unutrašnjost zemlje. Put u drugo beskonačno nije manje pustolovan od puta epopeje. Tako silazi pjesnik u čudnovate utrobe atoma. Svakom varijacijom\, Beethoven se sve više udaljuje od početne teme\, koja posljednjoj varijaciji nije ništa sličnija nego cvijet vlastitoj slici pod mikroskopom. Čovjek zna da ne može obuhvatiti svemir\, sa svim njegovim suncima i zvijezdama. Smatra daleko nepodnošljivijim što je osuđen da mimoiđe drugo beskonačno\, beskorisno\, posve blizu i nadohvat ruke. \nMilan Kundera\, Knjiga smijeha i zaborava \n\nMilan Kundera (rođen 1. travnja 1929. u Brnu) napustio je Prag 1975. godine i emigrirao u Pariz. Slavu je stekao romanom Šala (1965.)\, a svoj je književni genij potvrdio nizom djela koja se odlikuju intelektualnom složenošću i književnom virtuoznošću. Godine 1981. dobio je francusko državljanstvo\, a od romana Polaganost iz 1995. godine piše na francuskom jeziku.
URL:https://glazbena-skola-pozega.hr/event/ivan-batos-klavir/
LOCATION:Koncertna dvorana Glazbene škole Požega\, Vjekoslava Babukića 27\,\, Požega\, Croatia (Local Name: Hrvatska)
CATEGORIES:Gostujući umjetnici
ATTACH;FMTTYPE=image/png:https://glazbena-skola-pozega.hr/wp-content/uploads/2019/05/009.png
ORGANIZER;CN="Glazbena %C5%A1kola Po%C5%BEega":MAILTO:tajnistvo@glazbena-skola-pozega.hr
GEO:45.334673;17.677169
X-APPLE-STRUCTURED-LOCATION;VALUE=URI;X-ADDRESS=Koncertna dvorana Glazbene škole Požega Vjekoslava Babukića 27 Požega Croatia (Local Name: Hrvatska);X-APPLE-RADIUS=500;X-TITLE=Vjekoslava Babukića 27\,:geo:17.677169,45.334673
END:VEVENT
BEGIN:VEVENT
DTSTART;TZID=Europe/Zagreb:20180924T193000
DTEND;TZID=Europe/Zagreb:20180924T203000
DTSTAMP:20260419T232303
CREATED:20180919T083631Z
LAST-MODIFIED:20180919T101137Z
UID:17853-1537817400-1537821000@glazbena-skola-pozega.hr
SUMMARY:Večer gitaristica
DESCRIPTION:Na drugom koncertu 14. koncertne sezone nastupat će gitaristice – gostujuća umjetnica Paulina Kovačević i naša profesorica Lucija Ticl. \nPaulina Kovačević (Slavonski Brod\, 1995.) započela je glazbeno školovanje u Glazbenoj školi u Slavonskom Brodu u klasi prof. Zdenke Seletković. Tijekom tog razdoblja sudjelovala je na brojnim koncertima i smotrama te na regionalnim natjecanjima u Hrvatskoj na kojima je osvajala druge nagrade. Na međunarodnom natjecanju Mauro Giuliani u Italiji osvojila je drugu nagradu\, a na festivalu u Morskoj Soboti u Sloveniji prvu nagradu. Od 3.razreda OGŠ redovito je pohađala međunarodnu ljetnu glazbenu školu kod prof. Xhevdeta Sahatxhije\, kod kojeg je kasnije nastavila srednjoškolsko obrazovanje. Nakon maturiranja 2013.godine\, upisala je gitaru (VI.odsjek) na Muzičkoj akademiji u klasi prof. Tomislava Vukšića. Tijekom školovanja usavršavala se kod brojnih uglednih gitarista\, među kojima su Pepe Romero\, Judicael Perroy\, Carlo Marchione\, Zoran Dukić i Petrit Ceku. Trenutno je na petoj godini studija gitare i od 2018. godine zaposlena kao učiteljica gitare u Glazbenoj školi u Slavonskom Brodu. \nLucija Ticl (Požega\, 1994.) započela je glazbeno školovanje u Glazbenoj školi u Požegi gdje je tokom obrazovanja sudjelovala na raznim smotrama\, koncertima te regionalnim natjecanjima u Hrvatskoj gdje je osvajala druge nagrade. Srednjoškolsko glazbeno obrazovanje nastavlja Požegi u klasi prof. Luke Vlašića i prof. Vladimira Jevickog. Nakon maturiranja 2013. godine\, upisala je gitaru na Muzičkoj akademiji u Zagrebu u klasi prof. Tomislava Vukšića. Tijekom školovanja\, pohađala je radionice i seminare kod brojnih uglednih gitarista\, među kojima su Zoran Dukić\, Lukasz Kuropaczewski\, Dejan Ivanović\, Marco Tamayo\, Gabriel Bianco i Judicael Perroy. Trenutno je na petoj godini studija gitare i u 2018. godini zaposlena je kao učiteljica gitare u Glazbenoj školi u Požegi. \n \n  \n 
URL:https://glazbena-skola-pozega.hr/event/vecer-gitaristica/
LOCATION:Plava dvorana Glazbene škole Požega\, Vjekoslava Babukića 27\,\, Požega\, Croatia (Local Name: Hrvatska)
CATEGORIES:Gostujući umjetnici,Profesori
ATTACH;FMTTYPE=image/jpeg:https://glazbena-skola-pozega.hr/wp-content/uploads/2018/08/Gitara-2.jpg
ORGANIZER;CN="Glazbena %C5%A1kola Po%C5%BEega":MAILTO:tajnistvo@glazbena-skola-pozega.hr
GEO:45.334673;17.677169
X-APPLE-STRUCTURED-LOCATION;VALUE=URI;X-ADDRESS=Plava dvorana Glazbene škole Požega Vjekoslava Babukića 27 Požega Croatia (Local Name: Hrvatska);X-APPLE-RADIUS=500;X-TITLE=Vjekoslava Babukića 27\,:geo:17.677169,45.334673
END:VEVENT
END:VCALENDAR